BEGIN:VCALENDAR
VERSION:2.0
PRODID:-// - ECPv6.2.4//NONSGML v1.0//EN
CALSCALE:GREGORIAN
METHOD:PUBLISH
X-ORIGINAL-URL:https://scjaeklechemie.de
X-WR-CALDESC:Veranstaltungen für 
REFRESH-INTERVAL;VALUE=DURATION:PT1H
X-Robots-Tag:noindex
X-PUBLISHED-TTL:PT1H
BEGIN:VTIMEZONE
TZID:Europe/Berlin
BEGIN:DAYLIGHT
TZOFFSETFROM:+0100
TZOFFSETTO:+0200
TZNAME:CEST
DTSTART:20260329T010000
END:DAYLIGHT
BEGIN:STANDARD
TZOFFSETFROM:+0200
TZOFFSETTO:+0100
TZNAME:CET
DTSTART:20261025T010000
END:STANDARD
END:VTIMEZONE
BEGIN:VEVENT
DTSTART;TZID=Europe/Berlin:20260612T200000
DTEND;TZID=Europe/Berlin:20260612T233000
DTSTAMP:20260421T153521
CREATED:20251229T124735Z
LAST-MODIFIED:20251231T161847Z
UID:15711-1781294400-1781307000@scjaeklechemie.de
SUMMARY:Nürnberger Stadtblitzmeisterschaft: Junirunde
DESCRIPTION:
URL:https://scjaeklechemie.de/termin/nuernberger-stadtblitzmeisterschaft-junirunde
LOCATION:SC Noris-Tarrasch Nürnberg\, Marthastraße 60\, Nürnberg\, Bayern\, 90482\, Deutschland
CATEGORIES:Externe Turniere
END:VEVENT
BEGIN:VEVENT
DTSTART;VALUE=DATE:20260614
DTEND;VALUE=DATE:20260615
DTSTAMP:20260421T153521
CREATED:20260324T175356Z
LAST-MODIFIED:20260324T175527Z
UID:16091-1781395200-1781481599@scjaeklechemie.de
SUMMARY:4. Uttenreuther DWZ-Pokalturnier
DESCRIPTION:Ausschreibung_Utt4_20260614
URL:https://scjaeklechemie.de/termin/4-uttenreuther-dwz-pokalturnier
LOCATION:SC Uttenreuth\, Breslauer Straße 41\, Uttenreuth\, Bayern\, 91080\, Deutschland
CATEGORIES:Jugend
END:VEVENT
BEGIN:VEVENT
DTSTART;TZID=Europe/Berlin:20260619T194500
DTEND;TZID=Europe/Berlin:20260619T230000
DTSTAMP:20260421T153521
CREATED:20260331T210620Z
LAST-MODIFIED:20260331T210757Z
UID:16117-1781898300-1781910000@scjaeklechemie.de
SUMMARY:Spaß-VM-Turnier 3/4: Handicap-Schach
DESCRIPTION:
URL:https://scjaeklechemie.de/termin/spass-vm-turnier-3-4-handicap-schach
LOCATION:SC JÄKLECHEMIE Talente Franken e.V.\, Fürther Straße 244d\, Nürnberg\, Bayern\, 90429
CATEGORIES:Vereinsturniere
END:VEVENT
BEGIN:VEVENT
DTSTART;TZID=Europe/Berlin:20260710T194500
DTEND;TZID=Europe/Berlin:20260710T230000
DTSTAMP:20260421T153521
CREATED:20260331T210656Z
LAST-MODIFIED:20260331T210656Z
UID:16119-1783712700-1783724400@scjaeklechemie.de
SUMMARY:Spaß-VM-Turnier 4/4: Entenschach
DESCRIPTION:
URL:https://scjaeklechemie.de/termin/spass-vm-turnier-4-4-entenschach
LOCATION:SC JÄKLECHEMIE Talente Franken e.V.\, Fürther Straße 244d\, Nürnberg\, Bayern\, 90429
CATEGORIES:Vereinsturniere
END:VEVENT
BEGIN:VEVENT
DTSTART;TZID=Europe/Berlin:20260724T200000
DTEND;TZID=Europe/Berlin:20260724T233000
DTSTAMP:20260421T153521
CREATED:20251229T124940Z
LAST-MODIFIED:20251231T161726Z
UID:15713-1784923200-1784935800@scjaeklechemie.de
SUMMARY:Nürnberger Stadtblitzmeisterschaft: Julirunde
DESCRIPTION:
URL:https://scjaeklechemie.de/termin/nuernberger-stadtblitzmeisterschaft-julirunde
LOCATION:SC JÄKLECHEMIE Talente Franken e.V.\, Fürther Straße 244d\, Nürnberg\, Bayern\, 90429
CATEGORIES:Externe Turniere
END:VEVENT
BEGIN:VEVENT
DTSTART;TZID=Europe/Berlin:20260809T080000
DTEND;TZID=Europe/Berlin:20260815T120000
DTSTAMP:20260421T153521
CREATED:20260128T110847Z
LAST-MODIFIED:20260128T110847Z
UID:15967-1786262400-1786795200@scjaeklechemie.de
SUMMARY:DSJ-Sommercamp nahe Göttingen
DESCRIPTION:Flyer-Sommercamp-2026
URL:https://scjaeklechemie.de/termin/dsj-sommercamp-nahe-goettingen
LOCATION:Zeltlagerplatz Stolle\, Auf der Stolle 1\,\, Rosdorf-Dahlenrode\, Niedersachsen\, 37124\, Germany
CATEGORIES:Jugend
END:VEVENT
BEGIN:VEVENT
DTSTART;TZID=Europe/Berlin:20260813T200000
DTEND;TZID=Europe/Berlin:20260813T233000
DTSTAMP:20260421T153521
CREATED:20251229T125055Z
LAST-MODIFIED:20251231T161746Z
UID:15715-1786651200-1786663800@scjaeklechemie.de
SUMMARY:Nürnberger Stadtblitzmeisterschaft: Augustrunde
DESCRIPTION:
URL:https://scjaeklechemie.de/termin/nuernberger-stadtblitzmeisterschaft-augustrunde
LOCATION:SW Nürnberg Süd\, Siebenkeesstraße 4\, Nürnberg\, Bayern\, 90549\, Deutschland
CATEGORIES:Externe Turniere
END:VEVENT
BEGIN:VEVENT
DTSTART;VALUE=DATE:20260902
DTEND;VALUE=DATE:20260907
DTSTAMP:20260421T153521
CREATED:20260315T104750Z
LAST-MODIFIED:20260315T104750Z
UID:16037-1788307200-1788739199@scjaeklechemie.de
SUMMARY:8. Bamberg-Open
DESCRIPTION:
URL:https://scjaeklechemie.de/termin/8-bamberg-open
LOCATION:Bamberg (Klemens-Fink-Zentrum)\, Babenbergerring 1\, Bamberg\, Bayern\, 96049
CATEGORIES:Externe Turniere
END:VEVENT
END:VCALENDAR