BEGIN:VCALENDAR
VERSION:2.0
PRODID:-// - ECPv6.2.4//NONSGML v1.0//EN
CALSCALE:GREGORIAN
METHOD:PUBLISH
X-ORIGINAL-URL:https://scjaeklechemie.de
X-WR-CALDESC:Veranstaltungen für 
REFRESH-INTERVAL;VALUE=DURATION:PT1H
X-Robots-Tag:noindex
X-PUBLISHED-TTL:PT1H
BEGIN:VTIMEZONE
TZID:Europe/Berlin
BEGIN:DAYLIGHT
TZOFFSETFROM:+0100
TZOFFSETTO:+0200
TZNAME:CEST
DTSTART:20260329T010000
END:DAYLIGHT
BEGIN:STANDARD
TZOFFSETFROM:+0200
TZOFFSETTO:+0100
TZNAME:CET
DTSTART:20261025T010000
END:STANDARD
END:VTIMEZONE
BEGIN:VEVENT
DTSTART;TZID=Europe/Berlin:20260419T140000
DTEND;TZID=Europe/Berlin:20260419T200000
DTSTAMP:20260419T161118
CREATED:20250927T121943Z
LAST-MODIFIED:20251019T130531Z
UID:15473-1776607200-1776628800@scjaeklechemie.de
SUMMARY:8. Runde B2a: SG Büchenbach/Roth 2 - SC JÄKLECHEMIE 2
DESCRIPTION:
URL:https://scjaeklechemie.de/termin/8-runde-sg-buechenbach-roth-2-sc-jaeklechemie-2
LOCATION:SG Büchenbach/Roth\, Kühedorfer Weg 11\, Büchenbach\, Bayern\, 91186\, Deutschland
CATEGORIES:Mannschaftswettbewerbe
END:VEVENT
END:VCALENDAR